BEGIN:VCALENDAR
VERSION:2.0
PRODID:-//wp-events-plugin.com//7.2.3.1//EN
BEGIN:VEVENT
UID:181@oxfordfolkfest.org.uk
DTSTART;TZID=Europe/London:20250413T131500
DTEND;TZID=Europe/London:20250413T135500
DTSTAMP:20250331T153219Z
URL:https://oxfordfolkfest.org.uk/events/rivermouse/
SUMMARY:Rivermouse
DESCRIPTION:RiverMouse are a 4-piece folk band playing original and traditi
 onal songs and tunes inspired by Nature\, its changing seasons and life on
  and around the water.
CATEGORIES:Local Acts
LOCATION:Weston Library\, Bodleian Library\, Broad Street\, Oxford\, Oxford
 shire\, OX1 3BG\, United Kingdom
X-APPLE-STRUCTURED-LOCATION;VALUE=URI;X-ADDRESS=Bodleian Library\, Broad St
 reet\, Oxford\, Oxfordshire\, OX1 3BG\, United Kingdom;X-APPLE-RADIUS=100;
 X-TITLE=Weston Library:geo:0,0
END:VEVENT
BEGIN:VTIMEZONE
TZID:Europe/London
X-LIC-LOCATION:Europe/London
BEGIN:DAYLIGHT
DTSTART:20250330T020000
TZOFFSETFROM:+0000
TZOFFSETTO:+0100
TZNAME:BST
END:DAYLIGHT
END:VTIMEZONE
END:VCALENDAR