BEGIN:VCALENDAR
VERSION:2.0
PRODID:-//wp-events-plugin.com//7.2.3.1//EN
BEGIN:VEVENT
UID:196@oxfordfolkfest.org.uk
DTSTART;TZID=Europe/London:20250412T141500
DTEND;TZID=Europe/London:20250412T145500
DTSTAMP:20250331T155935Z
URL:https://oxfordfolkfest.org.uk/events/rivermouse-2/
SUMMARY:Rivermouse
DESCRIPTION:RiverMouse are a 4-piece folk band playing original and traditi
 onal songs and tunes inspired by Nature\, its changing seasons and life on
  and around the water.
CATEGORIES:Local Acts
LOCATION:St Columba's Church\, Alfred St\, Oxford\, Oxfordshire\, OX1 4EH\,
  United Kingdom
X-APPLE-STRUCTURED-LOCATION;VALUE=URI;X-ADDRESS=Alfred St\, Oxford\, Oxford
 shire\, OX1 4EH\, United Kingdom;X-APPLE-RADIUS=100;X-TITLE=St Columba's C
 hurch:geo:0,0
END:VEVENT
BEGIN:VTIMEZONE
TZID:Europe/London
X-LIC-LOCATION:Europe/London
BEGIN:DAYLIGHT
DTSTART:20250330T020000
TZOFFSETFROM:+0000
TZOFFSETTO:+0100
TZNAME:BST
END:DAYLIGHT
END:VTIMEZONE
END:VCALENDAR