BEGIN:VCALENDAR
VERSION:2.0
PRODID:-//wp-events-plugin.com//7.2.3.1//EN
BEGIN:VEVENT
UID:120@oxfordfolkfest.org.uk
DTSTART;TZID=Europe/London:20250411T133000
DTEND;TZID=Europe/London:20250411T141000
DTSTAMP:20250330T141457Z
URL:https://oxfordfolkfest.org.uk/events/none-the-wiser/
SUMMARY:None the Wiser
DESCRIPTION:None the Wiser\, Chris & Tom Stiling\, are frequent and popular
  folk performers in West Oxon and Gloucestershire. Much of their material 
 is original\, and they are known for their magnificent\, rousing tunes and
  sharp harmonies.
CATEGORIES:Local Acts
LOCATION:The Covered Market\, Market Street\, Oxford\, Oxfordshire\, OX1 3D
 Z\, United Kingdom
X-APPLE-STRUCTURED-LOCATION;VALUE=URI;X-ADDRESS=Market Street\, Oxford\, Ox
 fordshire\, OX1 3DZ\, United Kingdom;X-APPLE-RADIUS=100;X-TITLE=The Covere
 d Market:geo:0,0
END:VEVENT
BEGIN:VTIMEZONE
TZID:Europe/London
X-LIC-LOCATION:Europe/London
BEGIN:DAYLIGHT
DTSTART:20250330T020000
TZOFFSETFROM:+0000
TZOFFSETTO:+0100
TZNAME:BST
END:DAYLIGHT
END:VTIMEZONE
END:VCALENDAR