BEGIN:VCALENDAR
VERSION:2.0
PRODID:-//wp-events-plugin.com//7.2.3.1//EN
BEGIN:VEVENT
UID:151@oxfordfolkfest.org.uk
DTSTART;TZID=Europe/London:20250413T160000
DTEND;TZID=Europe/London:20250413T164500
DTSTAMP:20250330T140548Z
URL:https://oxfordfolkfest.org.uk/events/indigo/
SUMMARY:Indigo
DESCRIPTION:Joni Mitchell’s Blue has some of the most distinctive lyrics\
 , tunes and guitar work on any album ever written. In this new collaborati
 on\, Gordon Raitt (guitars and vocals in Scarecrow) and Rebecca Mileham (v
 iolin and vocals in Liam Vincent and the Odd Foxes) present their own inte
 rpretations of these songs\, and others they love from this period\, aimin
 g to capture their character in their own way. They add: ‘We are also pl
 aying Stephen Stills songs\, a bit of Bonnie Raitt\, and trying other retr
 o artists as they occur to us.’
CATEGORIES:Local Acts
LOCATION:Common Ground\, 37-38 Little Clarendon Street\, Oxford\, Oxfordshi
 re\, OX1 2HU\, United Kingdom
X-APPLE-STRUCTURED-LOCATION;VALUE=URI;X-ADDRESS=37-38 Little Clarendon Stre
 et\, Oxford\, Oxfordshire\, OX1 2HU\, United Kingdom;X-APPLE-RADIUS=100;X-
 TITLE=Common Ground:geo:0,0
END:VEVENT
BEGIN:VTIMEZONE
TZID:Europe/London
X-LIC-LOCATION:Europe/London
BEGIN:DAYLIGHT
DTSTART:20250330T020000
TZOFFSETFROM:+0000
TZOFFSETTO:+0100
TZNAME:BST
END:DAYLIGHT
END:VTIMEZONE
END:VCALENDAR