BEGIN:VCALENDAR
VERSION:2.0
PRODID:-//wp-events-plugin.com//7.2.3.1//EN
BEGIN:VEVENT
UID:188@oxfordfolkfest.org.uk
DTSTART;TZID=Europe/London:20250411T173000
DTEND;TZID=Europe/London:20250411T173000
DTSTAMP:20250331T154502Z
URL:https://oxfordfolkfest.org.uk/events/hoverhawk/
SUMMARY:Hoverhawk
DESCRIPTION:Hoverhawk are a (mostly) unaccompanied vocal harmony duo from O
 xford\, UK. Made up of Katherine Steiner and Rory Morrison\, they began si
 nging folk songs together in their kitchen\, and then at sessions around O
 xford.
CATEGORIES:Local Acts
LOCATION:Old Fire Station\, 40 George Street\, Oxford\, OX1 2AQ\, United Ki
 ngdom
X-APPLE-STRUCTURED-LOCATION;VALUE=URI;X-ADDRESS=40 George Street\, Oxford\,
  OX1 2AQ\, United Kingdom;X-APPLE-RADIUS=100;X-TITLE=Old Fire Station:geo:
 0,0
END:VEVENT
BEGIN:VTIMEZONE
TZID:Europe/London
X-LIC-LOCATION:Europe/London
BEGIN:DAYLIGHT
DTSTART:20250330T020000
TZOFFSETFROM:+0000
TZOFFSETTO:+0100
TZNAME:BST
END:DAYLIGHT
END:VTIMEZONE
END:VCALENDAR