BEGIN:VCALENDAR
VERSION:2.0
PRODID:-//wp-events-plugin.com//7.2.3.1//EN
BEGIN:VEVENT
UID:165@oxfordfolkfest.org.uk
DTSTART;TZID=Europe/London:20250412T140000
DTEND;TZID=Europe/London:20250412T144000
DTSTAMP:20250330T140253Z
URL:https://oxfordfolkfest.org.uk/events/heather-niness/
SUMMARY:Heather Niness
DESCRIPTION:Heather started performing as the singer with the Band Vorio Se
 llas (Northern Lights) while living in Greece. Since moving back to the UK
  she has performed as a soloist in many folk sessions in the shire and has
  also featured as the interpreter of Pete Joshua’s songs on his River an
 d Road CD. Heather adopts an Indie folk feel to her music.
CATEGORIES:Local Acts
LOCATION:Westgate Library\, Queen Street\, Oxford\, Oxfordshire\, OX1 1DJ\,
  United Kingdom
X-APPLE-STRUCTURED-LOCATION;VALUE=URI;X-ADDRESS=Queen Street\, Oxford\, Oxf
 ordshire\, OX1 1DJ\, United Kingdom;X-APPLE-RADIUS=100;X-TITLE=Westgate Li
 brary:geo:0,0
END:VEVENT
BEGIN:VTIMEZONE
TZID:Europe/London
X-LIC-LOCATION:Europe/London
BEGIN:DAYLIGHT
DTSTART:20250330T020000
TZOFFSETFROM:+0000
TZOFFSETTO:+0100
TZNAME:BST
END:DAYLIGHT
END:VTIMEZONE
END:VCALENDAR