BEGIN:VCALENDAR
VERSION:2.0
PRODID:-//wp-events-plugin.com//7.2.3.1//EN
BEGIN:VEVENT
UID:121@oxfordfolkfest.org.uk
DTSTART;TZID=Europe/London:20250411T141500
DTEND;TZID=Europe/London:20250411T161500
DTSTAMP:20250330T140056Z
URL:https://oxfordfolkfest.org.uk/events/grenzenlos/
SUMMARY:Grenzenlos
DESCRIPTION:Grenzenlos is a 6-piece folk band from Bonn\, Germany. We are d
 elighted to welcome them to Oxford as representatives from one of Oxford
 ’s twin cities. They are visiting Oxford both to perform at and to sampl
 e the work of other musicians at the Oxford Folk Festival. Grenzenlos have
  a wide selection of music in their repertoire\, which ranges from traditi
 onal folk tunes to popular standards from the last century.
CATEGORIES:Local Acts
LOCATION:The Covered Market\, Market Street\, Oxford\, Oxfordshire\, OX1 3D
 Z\, United Kingdom
X-APPLE-STRUCTURED-LOCATION;VALUE=URI;X-ADDRESS=Market Street\, Oxford\, Ox
 fordshire\, OX1 3DZ\, United Kingdom;X-APPLE-RADIUS=100;X-TITLE=The Covere
 d Market:geo:0,0
END:VEVENT
BEGIN:VTIMEZONE
TZID:Europe/London
X-LIC-LOCATION:Europe/London
BEGIN:DAYLIGHT
DTSTART:20250330T020000
TZOFFSETFROM:+0000
TZOFFSETTO:+0100
TZNAME:BST
END:DAYLIGHT
END:VTIMEZONE
END:VCALENDAR