BEGIN:VCALENDAR
VERSION:2.0
PRODID:-//wp-events-plugin.com//7.2.3.1//EN
BEGIN:VEVENT
UID:124@oxfordfolkfest.org.uk
DTSTART;TZID=Europe/London:20250411T180000
DTEND;TZID=Europe/London:20250411T190000
DTSTAMP:20250304T123854Z
URL:https://oxfordfolkfest.org.uk/events/greg-mayston-band/
SUMMARY:Greg Mayston Band
DESCRIPTION:The Greg Mayston band:\n\nGreg Mayston’s Folk\, Blues and Ame
 ricana play country\, folk and blues songs\, new and old\, and with love f
 or the traditions behind the songs.  Greg sings and plays guitar and banj
 o\, inspired by the iconic acoustic blues performers of the 1920s and 30s.
  Neil Warren knows all things harmonica\, and also plays mandolin. George 
 “Les” Calvert\, is our bass-player with a remarkable pedigree of bands
  that includes Mike Cooper’s Machine Gun Company and those “In the Sum
 mertime” chaps\, Mungo Jerry. Andy Wilkin is on percussion\, who also pl
 ays with Ma Bessie’s fine band.\n\n&nbsp\;\n\nWebsite: https://www.folk
 bluesandamericana.com
ATTACH;FMTTYPE=image/jpeg:https://oxfordfolkfest.org.uk/wp-content/uploads
 /2023/02/greg-mayston-photo.jpeg
CATEGORIES:Local Acts
LOCATION:The Covered Market\, Market Street\, Oxford\, Oxfordshire\, OX1 3D
 Z\, United Kingdom
X-APPLE-STRUCTURED-LOCATION;VALUE=URI;X-ADDRESS=Market Street\, Oxford\, Ox
 fordshire\, OX1 3DZ\, United Kingdom;X-APPLE-RADIUS=100;X-TITLE=The Covere
 d Market:geo:0,0
END:VEVENT
BEGIN:VTIMEZONE
TZID:Europe/London
X-LIC-LOCATION:Europe/London
BEGIN:DAYLIGHT
DTSTART:20250330T020000
TZOFFSETFROM:+0000
TZOFFSETTO:+0100
TZNAME:BST
END:DAYLIGHT
END:VTIMEZONE
END:VCALENDAR