BEGIN:VCALENDAR
VERSION:2.0
PRODID:-//wp-events-plugin.com//7.2.3.1//EN
BEGIN:VEVENT
UID:172@oxfordfolkfest.org.uk
DTSTART;TZID=Europe/London:20250413T163000
DTEND;TZID=Europe/London:20250413T183000
DTSTAMP:20250330T132852Z
URL:https://oxfordfolkfest.org.uk/events/bal-with-confluence/
SUMMARY:Bal with Confluence
DESCRIPTION:We are delighted to have the lush and captivating sounds of Con
 fluence playing for a balfolk dance\, to close this year’s Festival soci
 al dance programme.\n\nConfluence is an instrumental meeting of cello and 
 accordion based in the New Forest. They join traditional music from the UK
  with beautiful dance tunes from France\, Belgium and the Nordic countries
 \, as well as self-penned tunes inspired by those traditions. They love im
 provising around tunes and finding new ways to interpret them\, whether fo
 r dancing or for listening.\n\nGill Redmond is a folk cellist with her roo
 ts in classical music. As well as being half of Confluence folk duo\, she 
 also plays with the ceilidh band Jigfoot\, and with Paul Hutchinson in 'Th
 e Maniacs'. Accordionist Alasdair Paton has roots in classical piano but m
 ostly plays accordion these days\, after discovering folk music via Late J
 unction on the radio! As well as playing for French/Euro dancing as half o
 f Confluence\, he also features in the Southampton-based jazz swing quinte
 t Bad Cat\, and is often to be found at various Euro dance events or sessi
 ons around the south coast.\n\nExpect waltzes\, mazurkas\, scottishes\, bo
 urrées\, a few dances from Brittany and some polskas from Sweden.
ATTACH;FMTTYPE=image/jpeg:https://oxfordfolkfest.org.uk/wp-content/uploads
 /2025/03/confluencej.jpg
CATEGORIES:Dances
LOCATION:St Columba's Church\, Alfred St\, Oxford\, Oxfordshire\, OX1 4EH\,
  United Kingdom
X-APPLE-STRUCTURED-LOCATION;VALUE=URI;X-ADDRESS=Alfred St\, Oxford\, Oxford
 shire\, OX1 4EH\, United Kingdom;X-APPLE-RADIUS=100;X-TITLE=St Columba's C
 hurch:geo:0,0
END:VEVENT
BEGIN:VTIMEZONE
TZID:Europe/London
X-LIC-LOCATION:Europe/London
BEGIN:DAYLIGHT
DTSTART:20250330T020000
TZOFFSETFROM:+0000
TZOFFSETTO:+0100
TZNAME:BST
END:DAYLIGHT
END:VTIMEZONE
END:VCALENDAR